BEGIN:VCALENDAR
VERSION:2.0
PRODID:-//wp-events-plugin.com//6.6.4//EN
TZID:Europe/Berlin
X-WR-TIMEZONE:Europe/Berlin
BEGIN:VEVENT
UID:405@lweingarten.de
DTSTART;TZID=Europe/Berlin:20250724T201500
DTEND;TZID=Europe/Berlin:20250724T211500
DTSTAMP:20241216T091143Z
URL:https://lweingarten.de/events/befristeter-feldenkrais-kurs-15-2025-07-
 24/
SUMMARY:befristeter Feldenkrais-Kurs
DESCRIPTION:Mitzubringen sind eine Gymnastik-Matte und/oder eine Decke\, ei
 n großes Badetuch und warme Socken. Es ist ratsam warme und bequeme Kleid
 ung zu tragen\, in der man sich gut bewegen kann.
CATEGORIES:Befristeter Feldenkrais-Kurs
LOCATION:Hexkeshof Kempen\, Oedter Strasse 88\, Kempen\, 47906\, Deutschlan
 d
X-APPLE-STRUCTURED-LOCATION;VALUE=URI;X-ADDRESS=Oedter Strasse 88\, Kempen\
 , 47906\, Deutschland;X-APPLE-RADIUS=100;X-TITLE=Hexkeshof Kempen:geo:0,0
END:VEVENT
BEGIN:VTIMEZONE
TZID:Europe/Berlin
X-LIC-LOCATION:Europe/Berlin
BEGIN:DAYLIGHT
DTSTART:20250330T030000
TZOFFSETFROM:+0100
TZOFFSETTO:+0200
TZNAME:CEST
END:DAYLIGHT
END:VTIMEZONE
END:VCALENDAR