BEGIN:VCALENDAR
VERSION:2.0
PRODID:-//wp-events-plugin.com//6.6.4//EN
TZID:Europe/Berlin
X-WR-TIMEZONE:Europe/Berlin
BEGIN:VEVENT
UID:456@lweingarten.de
DTSTART;TZID=Europe/Berlin:20250728T190000
DTEND;TZID=Europe/Berlin:20250728T200000
DTSTAMP:20241216T092026Z
URL:https://lweingarten.de/events/befristeter-feldenkrais-kurs-18-2025-07-
 28/
SUMMARY:befristeter Feldenkrais-Kurs
DESCRIPTION:Bitte bringen Sie eine Matte und/oder Decke\, ein großes Badet
 uch und warme Socken mit. Es ist ratsam bequeme Kleidung zu tragen\, in de
 r Sie sich wohl fühlen und gut bewegen können.
CATEGORIES:Befristeter Feldenkrais-Kurs
LOCATION:Kita und Familienzentrum St.Josef und St. Laurentius (FaJoLa)\, Vi
 nkratherstr. 64 A\, Grefrath\, 47929\, Deutschland
X-APPLE-STRUCTURED-LOCATION;VALUE=URI;X-ADDRESS=Vinkratherstr. 64 A\, Grefr
 ath\, 47929\, Deutschland;X-APPLE-RADIUS=100;X-TITLE=Kita und Familienzent
 rum St.Josef und St. Laurentius (FaJoLa):geo:0,0
END:VEVENT
BEGIN:VTIMEZONE
TZID:Europe/Berlin
X-LIC-LOCATION:Europe/Berlin
BEGIN:DAYLIGHT
DTSTART:20250330T030000
TZOFFSETFROM:+0100
TZOFFSETTO:+0200
TZNAME:CEST
END:DAYLIGHT
END:VTIMEZONE
END:VCALENDAR